BEGIN:VCALENDAR
PRODID:http://wibix.de/infusions/pro_download_panel/download.php?did=27
VERSION:2.0
METHOD:PUBLISH
BEGIN:VEVENT
DTSTART:20120107T230000Z
UID:1@http://northved.dk/
DTSTAMP:20120107T225331Z
DESCRIPTION:Paintball fotoshot træningskamp
SUMMARY:Paintball foto shot
LOCATION:Amager
CLASS:PUBLIC
END:VEVENT
END:VCALENDAR
