BEGIN:VCALENDAR
PRODID:http://wibix.de/infusions/pro_download_panel/download.php?did=27
VERSION:2.0
METHOD:PUBLISH
BEGIN:VEVENT
DTSTART:20120504T220000Z
UID:2@http://northved.dk/
DTSTAMP:20120127T175539Z
DESCRIPTION:Jeg tar til Fast &amp; Furius 2012&lt;!--BREAK--&gt; og håber på nogle gode skud af både nye og gamle biler ;)
SUMMARY:Fast &amp; Furius 2012
LOCATION:Fredericia Messe Center
CLASS:PUBLIC
END:VEVENT
END:VCALENDAR
